BEGIN:VCALENDAR
VERSION:2.0
PRODID:-//Richardson ISD - ECPv6.15.17//NONSGML v1.0//EN
CALSCALE:GREGORIAN
METHOD:PUBLISH
X-WR-CALNAME:Richardson ISD
X-ORIGINAL-URL:https://web.risd.org/home
X-WR-CALDESC:Events for Richardson ISD
REFRESH-INTERVAL;VALUE=DURATION:PT1H
X-Robots-Tag:noindex
X-PUBLISHED-TTL:PT1H
BEGIN:VTIMEZONE
TZID:America/Chicago
BEGIN:DAYLIGHT
TZOFFSETFROM:-0600
TZOFFSETTO:-0500
TZNAME:CDT
DTSTART:20200308T080000
END:DAYLIGHT
BEGIN:STANDARD
TZOFFSETFROM:-0500
TZOFFSETTO:-0600
TZNAME:CST
DTSTART:20201101T070000
END:STANDARD
BEGIN:DAYLIGHT
TZOFFSETFROM:-0600
TZOFFSETTO:-0500
TZNAME:CDT
DTSTART:20210314T080000
END:DAYLIGHT
BEGIN:STANDARD
TZOFFSETFROM:-0500
TZOFFSETTO:-0600
TZNAME:CST
DTSTART:20211107T070000
END:STANDARD
BEGIN:DAYLIGHT
TZOFFSETFROM:-0600
TZOFFSETTO:-0500
TZNAME:CDT
DTSTART:20220313T080000
END:DAYLIGHT
BEGIN:STANDARD
TZOFFSETFROM:-0500
TZOFFSETTO:-0600
TZNAME:CST
DTSTART:20221106T070000
END:STANDARD
END:VTIMEZONE
BEGIN:VEVENT
DTSTART;TZID=America/Chicago:20210306T130000
DTEND;TZID=America/Chicago:20210306T160000
DTSTAMP:20260422T213755
CREATED:20210226T171817Z
LAST-MODIFIED:20210226T171817Z
UID:3143-1615035600-1615046400@web.risd.org
SUMMARY:COVID-19 Vaccine Registration
DESCRIPTION:Please bring ID if you have one.\n16 and older may register for the vaccine\nYou may register family members not present.\nResidence in 75243 and 75231 not required\,anyone can register!\n\nFEMA is targeting 17 ZIP codes to receive the COVID-19vaccine\, including 75243 and 75231! Please note this is registration only and is not the vaccine.
URL:https://web.risd.org/home/calendar/covid-19-vaccine-registration/
LOCATION:Forest Meadow Junior High\, 9373 Whitehurst\, Dallas\, Texas\, 75243
END:VEVENT
END:VCALENDAR